BEGIN:VCALENDAR
VERSION:2.0
PRODID:-//wp-events-plugin.com//7.2.3.1//EN
TZID:Europe/Amsterdam
X-WR-TIMEZONE:Europe/Amsterdam
BEGIN:VEVENT
UID:306@circustijdgeest.nl
DTSTART;TZID=Europe/Amsterdam:20250914T100000
DTEND;TZID=Europe/Amsterdam:20250914T150000
DTSTAMP:20250529T091319Z
URL:https://www.circustijdgeest.nl/planning/menzis-singelloop/
SUMMARY:Menzis Singelloop
DESCRIPTION:
CATEGORIES:Workshop
LOCATION:Volkspark\, Volkspark \, Enschede \, Nederland
X-APPLE-STRUCTURED-LOCATION;VALUE=URI;X-ADDRESS=Volkspark \, Enschede \, Ne
 derland;X-APPLE-RADIUS=100;X-TITLE=Volkspark:geo:0,0
END:VEVENT
BEGIN:VTIMEZONE
TZID:Europe/Amsterdam
X-LIC-LOCATION:Europe/Amsterdam
BEGIN:DAYLIGHT
DTSTART:20250330T030000
TZOFFSETFROM:+0100
TZOFFSETTO:+0200
TZNAME:CEST
END:DAYLIGHT
END:VTIMEZONE
END:VCALENDAR