BEGIN:VCALENDAR
VERSION:2.0
PRODID:-//wp-events-plugin.com//7.2.3.1//EN
TZID:Europe/Amsterdam
X-WR-TIMEZONE:Europe/Amsterdam
BEGIN:VEVENT
UID:381@circustijdgeest.nl
DTSTART;TZID=Europe/Amsterdam:20260525T080000
DTEND;TZID=Europe/Amsterdam:20260525T170000
DTSTAMP:20260316T082541Z
URL:https://www.circustijdgeest.nl/planning/markelo-creatieve-dag/
SUMMARY:Markelo - Creatieve dag
DESCRIPTION:
CATEGORIES:Vrijwilligersvergoeding,Workshop
LOCATION:Markelo - Herberg de Pot\, Potdijk 9\, Markelo\, Nederland
X-APPLE-STRUCTURED-LOCATION;VALUE=URI;X-ADDRESS=Potdijk 9\, Markelo\, Neder
 land;X-APPLE-RADIUS=100;X-TITLE=Markelo - Herberg de Pot:geo:0,0
END:VEVENT
BEGIN:VTIMEZONE
TZID:Europe/Amsterdam
X-LIC-LOCATION:Europe/Amsterdam
BEGIN:DAYLIGHT
DTSTART:20260329T030000
TZOFFSETFROM:+0100
TZOFFSETTO:+0200
TZNAME:CEST
END:DAYLIGHT
END:VTIMEZONE
END:VCALENDAR